BEGIN:VCALENDAR
VERSION:2.0
PRODID:-//wp-events-plugin.com//6.6.4.4//EN
TZID:America/Mexico_City
X-WR-TIMEZONE:America/Mexico_City
BEGIN:VEVENT
UID:165@marinarivieranayarit.com
DTSTART;TZID=America/Mexico_City:20231111T070000
DTEND;TZID=America/Mexico_City:20231111T100000
DTSTAMP:20231101T233011Z
URL:https://marinarivieranayarit.com/events/zombie-run/
SUMMARY:ZOMBIE RUN
DESCRIPTION:ZOMBIE RUN\n\nFUNDRAISER 7:00 AM\n\nMEET AT POOLSIDE DELI
END:VEVENT
BEGIN:VTIMEZONE
TZID:America/Mexico_City
X-LIC-LOCATION:America/Mexico_City
BEGIN:STANDARD
DTSTART:20221111T070000
TZOFFSETFROM:-0600
TZOFFSETTO:-0600
TZNAME:CST
END:STANDARD
END:VTIMEZONE
END:VCALENDAR