BEGIN:VCALENDAR
VERSION:2.0
PRODID:-//wp-events-plugin.com//6.6.4.4//EN
TZID:America/Mexico_City
X-WR-TIMEZONE:America/Mexico_City
BEGIN:VEVENT
UID:204@marinarivieranayarit.com
DTSTART;TZID=America/Mexico_City:20231223T093000
DTEND;TZID=America/Mexico_City:20231223T110000
DTSTAMP:20231208T232255Z
URL:https://marinarivieranayarit.com/events/swap-meet-2/
SUMMARY:Swap Meet
DESCRIPTION:Swap Meet 9:30 am\n\nat the marina entrance
END:VEVENT
BEGIN:VTIMEZONE
TZID:America/Mexico_City
X-LIC-LOCATION:America/Mexico_City
BEGIN:STANDARD
DTSTART:20221223T093000
TZOFFSETFROM:-0600
TZOFFSETTO:-0600
TZNAME:CST
END:STANDARD
END:VTIMEZONE
END:VCALENDAR