BEGIN:VCALENDAR
VERSION:2.0
PRODID:-//wp-events-plugin.com//6.6.4.4//EN
TZID:America/Mexico_City
X-WR-TIMEZONE:America/Mexico_City
BEGIN:VEVENT
UID:253@marinarivieranayarit.com
DTSTART;TZID=America/Mexico_City:20240223T110000
DTEND;TZID=America/Mexico_City:20240223T130000
DTSTAMP:20240208T190435Z
URL:https://marinarivieranayarit.com/events/surgical-suturing-workshop/
SUMMARY:Surgical Suturing Workshop
DESCRIPTION:Surgical Suturing Workshop witch Dr. Shukan\n\n11:00 am\n\nVIP 
 Lounge
END:VEVENT
BEGIN:VTIMEZONE
TZID:America/Mexico_City
X-LIC-LOCATION:America/Mexico_City
BEGIN:STANDARD
DTSTART:20230223T110000
TZOFFSETFROM:-0600
TZOFFSETTO:-0600
TZNAME:CST
END:STANDARD
END:VTIMEZONE
END:VCALENDAR