BEGIN:VCALENDAR
VERSION:2.0
PRODID:-//wp-events-plugin.com//6.6.4.4//EN
TZID:America/Mexico_City
X-WR-TIMEZONE:America/Mexico_City
BEGIN:VEVENT
UID:125@marinarivieranayarit.com
DTSTART;TZID=America/Mexico_City:20230224T150000
DTEND;TZID=America/Mexico_City:20230224T170000
DTSTAMP:20230201T235909Z
URL:https://marinarivieranayarit.com/events/simply-fresh/
SUMMARY:Simply Fresh
DESCRIPTION:Simply Fresh - Off Shore Solutions for easy meals\n\n&nbsp\;\n\
 n3:00 pm - 5:00 pm\n\nMarina Bar &amp\; Grill
END:VEVENT
BEGIN:VTIMEZONE
TZID:America/Mexico_City
X-LIC-LOCATION:America/Mexico_City
BEGIN:STANDARD
DTSTART:20221030T010000
TZOFFSETFROM:-0500
TZOFFSETTO:-0600
TZNAME:CST
END:STANDARD
END:VTIMEZONE
END:VCALENDAR