BEGIN:VCALENDAR
VERSION:2.0
PRODID:-//wp-events-plugin.com//6.6.4.4//EN
TZID:America/Mexico_City
X-WR-TIMEZONE:America/Mexico_City
BEGIN:VEVENT
UID:206@marinarivieranayarit.com
DTSTART;TZID=America/Mexico_City:20231219T170000
DTEND;TZID=America/Mexico_City:20231219T183000
DTSTAMP:20231208T232701Z
URL:https://marinarivieranayarit.com/events/saving-whales-with-ecobac-rabe
 n/
SUMMARY:Saving WHALES with ECOBAC / RABEN
DESCRIPTION:Saving WHALES with ECOBAC / RABEN\n\nLearn about our whale acti
 vity in Banderas Bay\n\nVIP Lounge 5:00 pm
END:VEVENT
BEGIN:VTIMEZONE
TZID:America/Mexico_City
X-LIC-LOCATION:America/Mexico_City
BEGIN:STANDARD
DTSTART:20221219T170000
TZOFFSETFROM:-0600
TZOFFSETTO:-0600
TZNAME:CST
END:STANDARD
END:VTIMEZONE
END:VCALENDAR