BEGIN:VCALENDAR
VERSION:2.0
PRODID:-//wp-events-plugin.com//6.6.4.4//EN
TZID:America/Mexico_City
X-WR-TIMEZONE:America/Mexico_City
BEGIN:VEVENT
UID:252@marinarivieranayarit.com
DTSTART;TZID=America/Mexico_City:20240216T110000
DTEND;TZID=America/Mexico_City:20240216T130000
DTSTAMP:20240208T190146Z
URL:https://marinarivieranayarit.com/events/first-aid-med-kit/
SUMMARY:First Aid Med-Kit
DESCRIPTION:First Aid Med-Kit with Dr. Shukan "Staying prepared"\n\n11:00 a
 m\n\nVIP Lounge
END:VEVENT
BEGIN:VTIMEZONE
TZID:America/Mexico_City
X-LIC-LOCATION:America/Mexico_City
BEGIN:STANDARD
DTSTART:20230216T110000
TZOFFSETFROM:-0600
TZOFFSETTO:-0600
TZNAME:CST
END:STANDARD
END:VTIMEZONE
END:VCALENDAR