BEGIN:VCALENDAR
VERSION:2.0
PRODID:-//wp-events-plugin.com//6.6.4.4//EN
TZID:America/Mexico_City
X-WR-TIMEZONE:America/Mexico_City
BEGIN:VEVENT
UID:126@marinarivieranayarit.com
DTSTART;TZID=America/Mexico_City;VALUE=DATE:20231102
DTEND;TZID=America/Mexico_City;VALUE=DATE:20231103
DTSTAMP:20231101T221309Z
URL:https://marinarivieranayarit.com/events/dia-de-los-muertos/
SUMMARY:Día de los Muertos
DESCRIPTION:Día de los Muertos\n\n&nbsp\;
END:VEVENT
BEGIN:VTIMEZONE
TZID:America/Mexico_City
X-LIC-LOCATION:America/Mexico_City
BEGIN:STANDARD
DTSTART:20221102T000000
TZOFFSETFROM:-0600
TZOFFSETTO:-0600
TZNAME:CST
END:STANDARD
END:VTIMEZONE
END:VCALENDAR