BEGIN:VCALENDAR
VERSION:2.0
PRODID:-//wp-events-plugin.com//6.6.4.4//EN
TZID:America/Mexico_City
X-WR-TIMEZONE:America/Mexico_City
BEGIN:VEVENT
UID:203@marinarivieranayarit.com
DTSTART;TZID=America/Mexico_City:20231209T093000
DTEND;TZID=America/Mexico_City:20231209T110000
DTSTAMP:20231208T232223Z
URL:https://marinarivieranayarit.com/en/events/swap-meet/
SUMMARY:Swap Meet
DESCRIPTION:Swap Meet 9:30 am\n\nat the marina entrance
END:VEVENT
BEGIN:VTIMEZONE
TZID:America/Mexico_City
X-LIC-LOCATION:America/Mexico_City
BEGIN:STANDARD
DTSTART:20221209T093000
TZOFFSETFROM:-0600
TZOFFSETTO:-0600
TZNAME:CST
END:STANDARD
END:VTIMEZONE
END:VCALENDAR