BEGIN:VCALENDAR
VERSION:2.0
PRODID:-//wp-events-plugin.com//6.6.4.4//EN
TZID:America/Mexico_City
X-WR-TIMEZONE:America/Mexico_City
BEGIN:VEVENT
UID:248@marinarivieranayarit.com
DTSTART;TZID=America/Mexico_City:20240209T130000
DTEND;TZID=America/Mexico_City:20240209T150000
DTSTAMP:20240208T185600Z
URL:https://marinarivieranayarit.com/en/events/rigging-diy-workshop/
SUMMARY:Rigging "DIY" Workshop
DESCRIPTION:Rigging "DIY" Workshop aboard S/V TOTEM\n\n1:00 pm\n\nhosted Ja
 ime Sailing TOTEM &amp\; Mike PV Sailing
END:VEVENT
BEGIN:VTIMEZONE
TZID:America/Mexico_City
X-LIC-LOCATION:America/Mexico_City
BEGIN:STANDARD
DTSTART:20230209T130000
TZOFFSETFROM:-0600
TZOFFSETTO:-0600
TZNAME:CST
END:STANDARD
END:VTIMEZONE
END:VCALENDAR