BEGIN:VCALENDAR
VERSION:2.0
PRODID:-//wp-events-plugin.com//6.6.4.4//EN
TZID:America/Mexico_City
X-WR-TIMEZONE:America/Mexico_City
BEGIN:VEVENT
UID:167@marinarivieranayarit.com
DTSTART;TZID=America/Mexico_City:20231113T083000
DTEND;TZID=America/Mexico_City:20231113T150000
DTSTAMP:20231101T233524Z
URL:https://marinarivieranayarit.com/en/events/poolside-deli-grill-open/
SUMMARY:POOLSIDE DELI GRILL OPEN
DESCRIPTION:POOLSIDE DELI GRILL OPEN\n\nBreakfast 8:30 am - 12:00\n\nLunch 
 1:00 pm - 3:00 pm\n\nMONDAY TO FRIDAY (DELI GRILL CLOSED ON WEDNESDAYS)\n\
 nBreakfast only on Saturday.\n\n&nbsp\;\n\n&nbsp\;
END:VEVENT
BEGIN:VTIMEZONE
TZID:America/Mexico_City
X-LIC-LOCATION:America/Mexico_City
BEGIN:STANDARD
DTSTART:20221113T083000
TZOFFSETFROM:-0600
TZOFFSETTO:-0600
TZNAME:CST
END:STANDARD
END:VTIMEZONE
END:VCALENDAR