BEGIN:VCALENDAR
VERSION:2.0
PRODID:-//wp-events-plugin.com//6.6.4.4//EN
TZID:America/Mexico_City
X-WR-TIMEZONE:America/Mexico_City
BEGIN:VEVENT
UID:251@marinarivieranayarit.com
DTSTART;TZID=America/Mexico_City:20240223T170000
DTEND;TZID=America/Mexico_City:20240223T190000
DTSTAMP:20240208T185919Z
URL:https://marinarivieranayarit.com/en/events/pacific-voyage-pacvoy-3/
SUMMARY:Pacific Voyage "PACVOY"
DESCRIPTION:Pacific Voyage "PACVOY" gathering at PV Sailing\n\n5:00 pm\n\nA
  free event for the fleet crossing the pacific
END:VEVENT
BEGIN:VTIMEZONE
TZID:America/Mexico_City
X-LIC-LOCATION:America/Mexico_City
BEGIN:STANDARD
DTSTART:20230223T170000
TZOFFSETFROM:-0600
TZOFFSETTO:-0600
TZNAME:CST
END:STANDARD
END:VTIMEZONE
END:VCALENDAR