BEGIN:VCALENDAR
VERSION:2.0
PRODID:-//wp-events-plugin.com//6.6.4.4//EN
TZID:America/Mexico_City
X-WR-TIMEZONE:America/Mexico_City
BEGIN:VEVENT
UID:364@marinarivieranayarit.com
DTSTART;TZID=America/Mexico_City:20250324T190000
DTEND;TZID=America/Mexico_City:20250324T210000
DTSTAMP:20250305T180911Z
URL:https://marinarivieranayarit.com/en/events/ocean-in-purgatory-project-
 2/
SUMMARY:Ocean In Purgatory Project
DESCRIPTION:Ocean In Purgatory Project: Special guest\, Manta Project Mexic
 o &amp\; El Cora Crocodile Sancutary\n\n7:00 pm at the Amphitheater
END:VEVENT
BEGIN:VTIMEZONE
TZID:America/Mexico_City
X-LIC-LOCATION:America/Mexico_City
BEGIN:STANDARD
DTSTART:20240324T190000
TZOFFSETFROM:-0600
TZOFFSETTO:-0600
TZNAME:CST
END:STANDARD
END:VTIMEZONE
END:VCALENDAR