BEGIN:VCALENDAR
VERSION:2.0
PRODID:-//wp-events-plugin.com//6.6.4.4//EN
TZID:America/Mexico_City
X-WR-TIMEZONE:America/Mexico_City
BEGIN:VEVENT
UID:124@marinarivieranayarit.com
DTSTART;TZID=America/Mexico_City:20230224T170000
DTEND;TZID=America/Mexico_City:20230224T190000
DTSTAMP:20230201T235527Z
URL:https://marinarivieranayarit.com/en/events/mexican-traing-3/
SUMMARY:Mexican Traing
DESCRIPTION:Mexican Traing\n\n5:00 pm - 7:00 pm\n\nPoolside Deli
END:VEVENT
BEGIN:VTIMEZONE
TZID:America/Mexico_City
X-LIC-LOCATION:America/Mexico_City
BEGIN:STANDARD
DTSTART:20221030T010000
TZOFFSETFROM:-0500
TZOFFSETTO:-0600
TZNAME:CST
END:STANDARD
END:VTIMEZONE
END:VCALENDAR