BEGIN:VCALENDAR
VERSION:2.0
PRODID:-//wp-events-plugin.com//6.6.4.4//EN
TZID:America/Mexico_City
X-WR-TIMEZONE:America/Mexico_City
BEGIN:VEVENT
UID:207@marinarivieranayarit.com
DTSTART;TZID=America/Mexico_City:20231224T170000
DTEND;TZID=America/Mexico_City:20231224T200000
DTSTAMP:20231208T232838Z
URL:https://marinarivieranayarit.com/en/events/holiday-dock-party/
SUMMARY:HOLIDAY DOCK PARTY
DESCRIPTION:HOLIDAY DOCK PARTY\n\nDOCK 4  -  5:00 PM
END:VEVENT
BEGIN:VTIMEZONE
TZID:America/Mexico_City
X-LIC-LOCATION:America/Mexico_City
BEGIN:STANDARD
DTSTART:20221224T170000
TZOFFSETFROM:-0600
TZOFFSETTO:-0600
TZNAME:CST
END:STANDARD
END:VTIMEZONE
END:VCALENDAR