BEGIN:VCALENDAR
VERSION:2.0
PRODID:-//wp-events-plugin.com//6.6.4.4//EN
TZID:America/Mexico_City
X-WR-TIMEZONE:America/Mexico_City
BEGIN:VEVENT
UID:97@marinarivieranayarit.com
DTSTART;TZID=America/Mexico_City:20231102T190000
DTEND;TZID=America/Mexico_City:20231102T210000
DTSTAMP:20231101T221131Z
URL:https://marinarivieranayarit.com/en/events/free-movie-nigth-12/
SUMMARY:Free Movie Nigth
DESCRIPTION:Movie Night 7:00 PM\n\nat VIP Lounge:  BYOB\n\n&nbsp\;
END:VEVENT
BEGIN:VTIMEZONE
TZID:America/Mexico_City
X-LIC-LOCATION:America/Mexico_City
BEGIN:STANDARD
DTSTART:20221102T190000
TZOFFSETFROM:-0600
TZOFFSETTO:-0600
TZNAME:CST
END:STANDARD
END:VTIMEZONE
END:VCALENDAR