BEGIN:VCALENDAR
VERSION:2.0
PRODID:-//wp-events-plugin.com//6.6.4.4//EN
TZID:America/Mexico_City
X-WR-TIMEZONE:America/Mexico_City
BEGIN:VEVENT
UID:166@marinarivieranayarit.com
DTSTART;TZID=America/Mexico_City:20231118T140000
DTEND;TZID=America/Mexico_City:20231118T190000
DTSTAMP:20231101T233058Z
URL:https://marinarivieranayarit.com/en/events/festival-raicilla-mezcal-an
 d-cerveza/
SUMMARY:FESTIVAL RAICILLA\, MEZCAL AND CERVEZA
DESCRIPTION:FESTIVAL RAICILLA\, MEZCAL AND CERVEZA\n\non the malecon 2:00pm
  - 7:00 pm
END:VEVENT
BEGIN:VTIMEZONE
TZID:America/Mexico_City
X-LIC-LOCATION:America/Mexico_City
BEGIN:STANDARD
DTSTART:20221118T140000
TZOFFSETFROM:-0600
TZOFFSETTO:-0600
TZNAME:CST
END:STANDARD
END:VTIMEZONE
END:VCALENDAR