BEGIN:VCALENDAR
VERSION:2.0
PRODID:-//wp-events-plugin.com//6.6.4.4//EN
TZID:America/Mexico_City
X-WR-TIMEZONE:America/Mexico_City
BEGIN:VEVENT
UID:205@marinarivieranayarit.com
DTSTART;TZID=America/Mexico_City:20231229T150000
DTEND;TZID=America/Mexico_City:20231229T163000
DTSTAMP:20231208T232435Z
URL:https://marinarivieranayarit.com/en/events/emergencies-at-sea/
SUMMARY:Emergencies  at Sea
DESCRIPTION:Emergencies at Sea\n\nVIP Longe\n\n3:00 pm
END:VEVENT
BEGIN:VTIMEZONE
TZID:America/Mexico_City
X-LIC-LOCATION:America/Mexico_City
BEGIN:STANDARD
DTSTART:20221229T150000
TZOFFSETFROM:-0600
TZOFFSETTO:-0600
TZNAME:CST
END:STANDARD
END:VTIMEZONE
END:VCALENDAR