BEGIN:VCALENDAR
VERSION:2.0
PRODID:-//wp-events-plugin.com//6.6.4.4//EN
TZID:America/Mexico_City
X-WR-TIMEZONE:America/Mexico_City
BEGIN:VEVENT
UID:254@marinarivieranayarit.com
DTSTART;TZID=America/Mexico_City:20240210T093000
DTEND;TZID=America/Mexico_City:20240210T103000
DTSTAMP:20240208T190739Z
URL:https://marinarivieranayarit.com/en/events/beach-clean/
SUMMARY:Beach Clean
DESCRIPTION:Beach Clean\n\n9:30 am\n\nDetails on VHF 22a - 8:30 am\n\n&nbsp
 \;\n\n&nbsp\;
END:VEVENT
BEGIN:VTIMEZONE
TZID:America/Mexico_City
X-LIC-LOCATION:America/Mexico_City
BEGIN:STANDARD
DTSTART:20230210T093000
TZOFFSETFROM:-0600
TZOFFSETTO:-0600
TZNAME:CST
END:STANDARD
END:VTIMEZONE
END:VCALENDAR