BEGIN:VCALENDAR
VERSION:2.0
PRODID:-//wp-events-plugin.com//6.6.4.4//EN
TZID:America/Mexico_City
X-WR-TIMEZONE:America/Mexico_City
BEGIN:VEVENT
UID:199@marinarivieranayarit.com
DTSTART;TZID=America/Mexico_City;VALUE=DATE:20231212
DTEND;TZID=America/Mexico_City;VALUE=DATE:20231213
DTSTAMP:20231208T231631Z
URL:https://marinarivieranayarit.com/en/events/banderas-bay-blast-6/
SUMMARY:Banderas Bay Blast
DESCRIPTION:Banderas Bay Blast\n\n&nbsp\;
END:VEVENT
BEGIN:VTIMEZONE
TZID:America/Mexico_City
X-LIC-LOCATION:America/Mexico_City
BEGIN:STANDARD
DTSTART:20221212T000000
TZOFFSETFROM:-0600
TZOFFSETTO:-0600
TZNAME:CST
END:STANDARD
END:VTIMEZONE
END:VCALENDAR